BEGIN:VCALENDAR
VERSION:2.0
PRODID:-//Freeman Fine Arts Academy - ECPv6.15.17.1//NONSGML v1.0//EN
CALSCALE:GREGORIAN
METHOD:PUBLISH
X-ORIGINAL-URL:https://faa.littletonaz.org
X-WR-CALDESC:Events for Freeman Fine Arts Academy
REFRESH-INTERVAL;VALUE=DURATION:PT1H
X-Robots-Tag:noindex
X-PUBLISHED-TTL:PT1H
BEGIN:VTIMEZONE
TZID:America/Phoenix
BEGIN:STANDARD
TZOFFSETFROM:-0700
TZOFFSETTO:-0700
TZNAME:MST
DTSTART:20230101T000000
END:STANDARD
END:VTIMEZONE
BEGIN:VEVENT
DTSTART;TZID=America/Phoenix:20241113T130500
DTEND;TZID=America/Phoenix:20241113T130500
DTSTAMP:20260422T180902
CREATED:20240703T174727Z
LAST-MODIFIED:20240703T174727Z
UID:10000593-1731503100-1731503100@faa.littletonaz.org
SUMMARY:Early Release
DESCRIPTION:
URL:https://faa.littletonaz.org/calendar-event/early-release-16
END:VEVENT
BEGIN:VEVENT
DTSTART;TZID=America/Phoenix:20241113T163000
DTEND;TZID=America/Phoenix:20241113T200000
DTSTAMP:20260422T180902
CREATED:20240703T182846Z
LAST-MODIFIED:20241101T005827Z
UID:10000656-1731515400-1731528000@faa.littletonaz.org
SUMMARY:PTSA Peter Piper Pizza Fundraiser (99th & McDowell)
DESCRIPTION:
URL:https://faa.littletonaz.org/calendar-event/ptsa-peter-piper-pizza-fundraiser-3
END:VEVENT
END:VCALENDAR