BEGIN:VCALENDAR
VERSION:2.0
PRODID:-//Freeman Fine Arts Academy - ECPv6.15.17.1//NONSGML v1.0//EN
CALSCALE:GREGORIAN
METHOD:PUBLISH
X-WR-CALNAME:Freeman Fine Arts Academy
X-ORIGINAL-URL:https://faa.littletonaz.org
X-WR-CALDESC:Events for Freeman Fine Arts Academy
REFRESH-INTERVAL;VALUE=DURATION:PT1H
X-Robots-Tag:noindex
X-PUBLISHED-TTL:PT1H
BEGIN:VTIMEZONE
TZID:America/Phoenix
BEGIN:STANDARD
TZOFFSETFROM:-0700
TZOFFSETTO:-0700
TZNAME:MST
DTSTART:20250101T000000
END:STANDARD
END:VTIMEZONE
BEGIN:VEVENT
DTSTART;TZID=America/Phoenix:20260429T170000
DTEND;TZID=America/Phoenix:20260429T170000
DTSTAMP:20260423T031637
CREATED:20260331T225559Z
LAST-MODIFIED:20260331T225559Z
UID:10001025-1777482000-1777482000@faa.littletonaz.org
SUMMARY:Art Show\, Cafetorium
DESCRIPTION:
URL:https://faa.littletonaz.org/calendar-event/art-show-cafetorium
LOCATION:Room 130 & 132\, and Library
END:VEVENT
END:VCALENDAR