BEGIN:VCALENDAR
VERSION:2.0
PRODID:-//Freeman Fine Arts Academy - ECPv6.15.17.1//NONSGML v1.0//EN
CALSCALE:GREGORIAN
METHOD:PUBLISH
X-WR-CALNAME:Freeman Fine Arts Academy
X-ORIGINAL-URL:https://faa.littletonaz.org
X-WR-CALDESC:Events for Freeman Fine Arts Academy
REFRESH-INTERVAL;VALUE=DURATION:PT1H
X-Robots-Tag:noindex
X-PUBLISHED-TTL:PT1H
BEGIN:VTIMEZONE
TZID:America/Phoenix
BEGIN:STANDARD
TZOFFSETFROM:-0700
TZOFFSETTO:-0700
TZNAME:MST
DTSTART:20250101T000000
END:STANDARD
END:VTIMEZONE
BEGIN:VEVENT
DTSTART;TZID=America/Phoenix:20260506T173000
DTEND;TZID=America/Phoenix:20260506T173000
DTSTAMP:20260423T161220
CREATED:20260404T231458Z
LAST-MODIFIED:20260404T231458Z
UID:10001035-1778088600-1778088600@faa.littletonaz.org
SUMMARY:Band Spring Concert
DESCRIPTION:
URL:https://faa.littletonaz.org/calendar-event/band-spring-concert
LOCATION:Cafetorium
END:VEVENT
BEGIN:VEVENT
DTSTART;TZID=America/Phoenix:20260506T180000
DTEND;TZID=America/Phoenix:20260506T180000
DTSTAMP:20260423T161220
CREATED:20260404T231117Z
LAST-MODIFIED:20260404T231117Z
UID:10001034-1778090400-1778090400@faa.littletonaz.org
SUMMARY:Spring Dance Concert
DESCRIPTION:
URL:https://faa.littletonaz.org/calendar-event/spring-dance-concert
LOCATION:Cafetorium
END:VEVENT
END:VCALENDAR